BEGIN:VCALENDAR
VERSION:2.0
PRODID:-//Tipi Loschi Frassati Fellowship - ECPv6.15.20//NONSGML v1.0//EN
CALSCALE:GREGORIAN
METHOD:PUBLISH
X-ORIGINAL-URL:https://tipiloschi.org
X-WR-CALDESC:Events for Tipi Loschi Frassati Fellowship
REFRESH-INTERVAL;VALUE=DURATION:PT1H
X-Robots-Tag:noindex
X-PUBLISHED-TTL:PT1H
BEGIN:VTIMEZONE
TZID:America/New_York
BEGIN:DAYLIGHT
TZOFFSETFROM:-0500
TZOFFSETTO:-0400
TZNAME:EDT
DTSTART:20200308T070000
END:DAYLIGHT
BEGIN:STANDARD
TZOFFSETFROM:-0400
TZOFFSETTO:-0500
TZNAME:EST
DTSTART:20201101T060000
END:STANDARD
BEGIN:DAYLIGHT
TZOFFSETFROM:-0500
TZOFFSETTO:-0400
TZNAME:EDT
DTSTART:20210314T070000
END:DAYLIGHT
BEGIN:STANDARD
TZOFFSETFROM:-0400
TZOFFSETTO:-0500
TZNAME:EST
DTSTART:20211107T060000
END:STANDARD
BEGIN:DAYLIGHT
TZOFFSETFROM:-0500
TZOFFSETTO:-0400
TZNAME:EDT
DTSTART:20220313T070000
END:DAYLIGHT
BEGIN:STANDARD
TZOFFSETFROM:-0400
TZOFFSETTO:-0500
TZNAME:EST
DTSTART:20221106T060000
END:STANDARD
BEGIN:DAYLIGHT
TZOFFSETFROM:-0500
TZOFFSETTO:-0400
TZNAME:EDT
DTSTART:20230312T070000
END:DAYLIGHT
BEGIN:STANDARD
TZOFFSETFROM:-0400
TZOFFSETTO:-0500
TZNAME:EST
DTSTART:20231105T060000
END:STANDARD
END:VTIMEZONE
BEGIN:VEVENT
DTSTART;TZID=America/New_York:20220903T170000
DTEND;TZID=America/New_York:20220903T203000
DTSTAMP:20260423T203205
CREATED:20220827T150348Z
LAST-MODIFIED:20220827T150348Z
UID:331-1662224400-1662237000@tipiloschi.org
SUMMARY:Young Adult Ministry Dinner
DESCRIPTION:Come join us for the monthly Young Adult Ministry dinner! Fr. Andrew invites all young adults in their twenties\, thirties\, and forties to come have dinner and get to know each other\, and we want to see you there! \nNo RSVP necessary. Just find us outside or downstairs after the 4pm Mass!
URL:https://tipiloschi.org/event/yam-dinner-2022-09-03/
LOCATION:Holy Trinity\, 404 High St.\, Somersworth\, NH\, 03878\, United States
CATEGORIES:Parish Events
ATTACH;FMTTYPE=image/jpeg:https://tipiloschi.org/wp-content/uploads/2022/08/YAM-dinner-e1661612523630.jpg
END:VEVENT
BEGIN:VEVENT
DTSTART;TZID=America/New_York:20220731T130000
DTEND;TZID=America/New_York:20220731T170000
DTSTAMP:20260423T203205
CREATED:20220603T152155Z
LAST-MODIFIED:20220603T153710Z
UID:314-1659272400-1659286800@tipiloschi.org
SUMMARY:Parish Picnic
DESCRIPTION:Last year’s parish picnic surprise will be hard to beat (see photo!)\, but anyone who’s been knows the picnic is an annual favorite! \nCome celebrate our parish feast day\, St. Ignatius of Loyola\, with all your friends at a great cookout party! \nTimes to be confirmed.
URL:https://tipiloschi.org/event/parish-picnic/
LOCATION:Holy Trinity\, 404 High St.\, Somersworth\, NH\, 03878\, United States
CATEGORIES:Parish Events
ATTACH;FMTTYPE=image/jpeg:https://tipiloschi.org/wp-content/uploads/2022/06/parish_picnic.jpg
END:VEVENT
BEGIN:VEVENT
DTSTART;TZID=America/New_York:20220625T170000
DTEND;TZID=America/New_York:20220625T190000
DTSTAMP:20260423T203205
CREATED:20220603T151149Z
LAST-MODIFIED:20220603T151149Z
UID:304-1656176400-1656183600@tipiloschi.org
SUMMARY:One Faith\, One Family\, One Table
DESCRIPTION:Come to the 4pm Mass\, and afterwards join us outside for family dinner! \nParish volunteers will be preparing a gourmet feast for us to share in\, but there is a catch\, we will be sitting at one giant table. That is correct\, we will be sitting at one giant table that will stretch between West High Street and Doelson Street. We will sit at ONE TABLE as ONE FAMILY. The meal will be served family style and will include us all–new parishioners\, old parishioners\, converts and cradle Catholics\, friends and family from close and from far.
URL:https://tipiloschi.org/event/one-faith-one-family-one-table/
LOCATION:St. Martin Church\, 120 Maple St.\, Somersworth\, NH\, 03878\, United States
CATEGORIES:Parish Events
ATTACH;FMTTYPE=image/jpeg:https://tipiloschi.org/wp-content/uploads/2022/06/giant_table.jpg
END:VEVENT
BEGIN:VEVENT
DTSTART;TZID=America/New_York:20220604T160000
DTEND;TZID=America/New_York:20220604T183000
DTSTAMP:20260423T203205
CREATED:20220603T144055Z
LAST-MODIFIED:20220603T144209Z
UID:288-1654358400-1654367400@tipiloschi.org
SUMMARY:Knights of Columbus Spaghetti Supper
DESCRIPTION:The Young Adult Ministry at St. Ignatius is taking advantage of the Knights of Columbus’ Spaghetti Supper Fundraiser for the Sr. Judith Scholarship Fund to have their regular first Saturday meetup! \nIf you’re in the “young adult” range (Fr. Andrew considers this anyone younger than he is; he’s 43!)\, it should be a good time! The Young Adult Ministry will have their own side table in one of the religious ed classrooms around the periphery. \nEven if you’re not a young adult\, it’ll still be a good time to come meet other parishioners! \nPrices are $8 for seniors 62 and older\, $10 for ages 13-61\, $5 for kids 4-12\, and free for the littles. There are also family rates available\, and you can even get take-out if you want to support the fundraiser but can’t stay!
URL:https://tipiloschi.org/event/kofc-spaghetti-supper/
LOCATION:St. Martin Church\, 120 Maple St.\, Somersworth\, NH\, 03878\, United States
CATEGORIES:Parish Events
ATTACH;FMTTYPE=image/png:https://tipiloschi.org/wp-content/uploads/2022/06/Spaghetti_Supper.png
END:VEVENT
BEGIN:VEVENT
DTSTART;TZID=America/New_York:20220319T100000
DTEND;TZID=America/New_York:20220319T130000
DTSTAMP:20260423T203205
CREATED:20220227T224357Z
LAST-MODIFIED:20220307T015504Z
UID:244-1647684000-1647694800@tipiloschi.org
SUMMARY:The Solemnity of St. Joseph
DESCRIPTION:On Saturday\, March 19\, at St. Martin\, we will be celebrate the Solemnity of St. Joseph\, Spouse of the Blessed Virgin Mary. Mass will begin at 10am. \nPlease join us in celebrating the feast of this beloved saint\, who is patron of our diocese\, families\, and of a happy death. \nAs we did last year\, we will create a beautiful St. Joseph Altar with food and pictures of our loved ones who have passed on. Tags of suggested items to bring to the table will be\navailable next weekend. \nAfter Mass\, we will eat together\, laugh together\, and celebrate as a family.
URL:https://tipiloschi.org/event/solemnity-of-st-joseph/
LOCATION:Holy Trinity\, 404 High St.\, Somersworth\, NH\, 03878\, United States
CATEGORIES:Parish Events
ATTACH;FMTTYPE=image/png:https://tipiloschi.org/wp-content/uploads/2022/02/St.-Joseph-Solemnity.png
END:VEVENT
BEGIN:VEVENT
DTSTART;TZID=America/New_York:20211120T090000
DTEND;TZID=America/New_York:20211120T150000
DTSTAMP:20260423T203205
CREATED:20211026T005808Z
LAST-MODIFIED:20211026T005857Z
UID:212-1637398800-1637420400@tipiloschi.org
SUMMARY:St. Anne Guild/St. Mary Holiday Fair!
DESCRIPTION:Come support St. Mary Parish in their annual holiday fair! \nGood chance you’ll find Link dressed as a Christmas tree here too\, in case you missed it at Holy Trinity the week before!
URL:https://tipiloschi.org/event/st-anne-guild-st-mary-holiday-fair/
LOCATION:American Legion Hall\, 551 Foundry St.\, Rollinsford\, NH\, 03869\, United States
CATEGORIES:Parish Events
END:VEVENT
BEGIN:VEVENT
DTSTART;TZID=America/New_York:20211113T090000
DTEND;TZID=America/New_York:20211113T150000
DTSTAMP:20260423T203205
CREATED:20211026T005141Z
LAST-MODIFIED:20221103T174903Z
UID:208-1636794000-1636815600@tipiloschi.org
SUMMARY:2021 Spirit of Christmas Fair!
DESCRIPTION:Come support our fellow parishioners in the Spirit of Christmas Fair! \nIf you don’t have a chance to RSVP\, just come looking for Link dressed as a Christmas tree. It’ll be hard to miss!
URL:https://tipiloschi.org/event/2021-spirit-of-christmas-fair/
LOCATION:Holy Trinity\, 404 High St.\, Somersworth\, NH\, 03878\, United States
CATEGORIES:Parish Events
ATTACH;FMTTYPE=image/png:https://tipiloschi.org/wp-content/uploads/2021/10/spirit-of-christmas.png
END:VEVENT
BEGIN:VEVENT
DTSTART;TZID=America/New_York:20211031T173000
DTEND;TZID=America/New_York:20211031T210000
DTSTAMP:20260423T203205
CREATED:20211026T004048Z
LAST-MODIFIED:20211026T004048Z
UID:202-1635701400-1635714000@tipiloschi.org
SUMMARY:All Saints Mass and Trick or Treat!
DESCRIPTION:On the eve of All Hallows\, come celebrate dressed as your favorite saint! If you don’t have a costume\, come as yourself\, and become a saint! \nWe’ll start with Mass at 5:30pm (especially if you haven’t been earlier in the day!)\, and then dozens of parish volunteers (including yours truly!) will be dressed as saints and handing out candy! \nCome test your hagiographical chops and see how many of us you can recognize!
URL:https://tipiloschi.org/event/all-saints-mass-and-trick-or-treat/
LOCATION:St. Martin Church\, 120 Maple St.\, Somersworth\, NH\, 03878\, United States
CATEGORIES:Parish Events
ATTACH;FMTTYPE=image/png:https://tipiloschi.org/wp-content/uploads/2021/10/All-Saints.png
END:VEVENT
BEGIN:VEVENT
DTSTART;TZID=America/New_York:20210918T170000
DTEND;TZID=America/New_York:20210918T200000
DTSTAMP:20260423T203205
CREATED:20210818T011348Z
LAST-MODIFIED:20220827T150618Z
UID:148-1631984400-1631995200@tipiloschi.org
SUMMARY:Tailgate Party 2021
DESCRIPTION:The most epic tailgate party of the year happens at our own parish! \nCome join the shady characters as we introduce our parish to the “Font of Every Blessing” station\, with six different kinds of fondue fountains! Milk chocolate\, dark chocolate\, and salted caramel\, sure\, but also barbecue sauce\, cheese sauce\, and ranch dressing! \nWe make every other station’s food even better\, and we especially help out the poor group from Berlin\, who’s going to try very hard\, bless their hearts. \nIf you can help us set up and run the event\, please use that RSVP option\, but even if not\, please come enjoy the eats!
URL:https://tipiloschi.org/event/tailgate-party-2021/
LOCATION:St. Martin Church\, 120 Maple St.\, Somersworth\, NH\, 03878\, United States
CATEGORIES:Parish Events
ATTACH;FMTTYPE=image/png:https://tipiloschi.org/wp-content/uploads/2021/08/fondue-fountains.png
END:VEVENT
BEGIN:VEVENT
DTSTART;TZID=America/New_York:20210815T120000
DTEND;TZID=America/New_York:20210815T140000
DTSTAMP:20260423T203205
CREATED:20210811T114048Z
LAST-MODIFIED:20210811T114048Z
UID:119-1629028800-1629036000@tipiloschi.org
SUMMARY:St. Mary's Potluck
DESCRIPTION:Come join St. Mary Parish for the end-of-summer potluck! Bring a dish to share and your friendliest smile and we’ll see you there! \nNo RSVP required.
URL:https://tipiloschi.org/event/st-marys-potluck/
LOCATION:St. Mary’s\, 411 Church St.\, Rollinsford\, NH\, 03869\, United States
CATEGORIES:Parish Events
END:VEVENT
BEGIN:VEVENT
DTSTART;TZID=America/New_York:20210814T170000
DTEND;TZID=America/New_York:20210814T200000
DTSTAMP:20260423T203205
CREATED:20210811T111320Z
LAST-MODIFIED:20210811T111320Z
UID:109-1628960400-1628971200@tipiloschi.org
SUMMARY:Young Couples Dinner
DESCRIPTION:St. Ignatius and St. Mary parishes are hosting a Young Couples Dinner for all couples in their 20s\, 30s\, or 40s! \nIf you are in such a young couple and want to attend\, please register by Wednesday August 11 at the parish’s link here. \nIf you aren’t\, but would like to come serve the dinner\, please just arrive at the parish by the end of the 4pm Mass! We’ll be glad to have you!
URL:https://tipiloschi.org/event/young-couples-dinner/
LOCATION:St. Martin Church\, 120 Maple St.\, Somersworth\, NH\, 03878\, United States
CATEGORIES:Parish Events
ATTACH;FMTTYPE=image/png:https://tipiloschi.org/wp-content/uploads/2021/08/Young-Couples-Dinner.png
END:VEVENT
END:VCALENDAR