BEGIN:VCALENDAR
VERSION:2.0
PRODID:-//Tipi Loschi Frassati Fellowship - ECPv6.15.20//NONSGML v1.0//EN
CALSCALE:GREGORIAN
METHOD:PUBLISH
X-WR-CALNAME:Tipi Loschi Frassati Fellowship
X-ORIGINAL-URL:https://tipiloschi.org
X-WR-CALDESC:Events for Tipi Loschi Frassati Fellowship
REFRESH-INTERVAL;VALUE=DURATION:PT1H
X-Robots-Tag:noindex
X-PUBLISHED-TTL:PT1H
BEGIN:VTIMEZONE
TZID:America/New_York
BEGIN:DAYLIGHT
TZOFFSETFROM:-0500
TZOFFSETTO:-0400
TZNAME:EDT
DTSTART:20200308T070000
END:DAYLIGHT
BEGIN:STANDARD
TZOFFSETFROM:-0400
TZOFFSETTO:-0500
TZNAME:EST
DTSTART:20201101T060000
END:STANDARD
BEGIN:DAYLIGHT
TZOFFSETFROM:-0500
TZOFFSETTO:-0400
TZNAME:EDT
DTSTART:20210314T070000
END:DAYLIGHT
BEGIN:STANDARD
TZOFFSETFROM:-0400
TZOFFSETTO:-0500
TZNAME:EST
DTSTART:20211107T060000
END:STANDARD
BEGIN:DAYLIGHT
TZOFFSETFROM:-0500
TZOFFSETTO:-0400
TZNAME:EDT
DTSTART:20220313T070000
END:DAYLIGHT
BEGIN:STANDARD
TZOFFSETFROM:-0400
TZOFFSETTO:-0500
TZNAME:EST
DTSTART:20221106T060000
END:STANDARD
BEGIN:DAYLIGHT
TZOFFSETFROM:-0500
TZOFFSETTO:-0400
TZNAME:EDT
DTSTART:20230312T070000
END:DAYLIGHT
BEGIN:STANDARD
TZOFFSETFROM:-0400
TZOFFSETTO:-0500
TZNAME:EST
DTSTART:20231105T060000
END:STANDARD
BEGIN:DAYLIGHT
TZOFFSETFROM:-0500
TZOFFSETTO:-0400
TZNAME:EDT
DTSTART:20240310T070000
END:DAYLIGHT
BEGIN:STANDARD
TZOFFSETFROM:-0400
TZOFFSETTO:-0500
TZNAME:EST
DTSTART:20241103T060000
END:STANDARD
END:VTIMEZONE
BEGIN:VEVENT
DTSTART;VALUE=DATE:20230602
DTEND;VALUE=DATE:20230606
DTSTAMP:20260423T183244
CREATED:20230502T235102Z
LAST-MODIFIED:20230502T235102Z
UID:484-1685678400-1685937599@tipiloschi.org
SUMMARY:Pillars of Life Young Adult Retreat
DESCRIPTION:Purchase required at https://vitanova.org/pillars-of-life-retreat\nSingle Room – $135.00 Per Person\nDouble Room – $115.00 Per Person\n$15 Discount will be applied to the first 20 people to register! \nPillars of Life Young Adult Retreat\n– based on the prophetic dream of St. John Bosco\nFriday\, June 2 through Sunday\, June 4\nHeld at St. Anselm Abbey \nLed by the monks of St. Anselm Abbey\,\nand the Daughters of Mary Mother of Healing Love \nRetreat is open to any young adults 18+\nFriday evening through Sunday afternoon\n– price includes meals starting with Friday dinner through Sunday lunch\n– all costs are included in your registration \nHousing will be in campus dorms\, please bring  your own bedding and toiletries \nArrival tbd\nWhere:  tbd \nRoomate Request:  Please e-mall Fr. Rory at RTraynor@rcbm.org or you will be randomly assigned
URL:https://tipiloschi.org/event/pillars-of-life-young-adult-retreat/
LOCATION:St. Anselm Abbey\, 100 St. Anselm Dr.\, Manchester\, NH\, 03102\, United States
CATEGORIES:Diocesan Events
ATTACH;FMTTYPE=image/jpeg:https://tipiloschi.org/wp-content/uploads/2023/05/Pillars-Of-LifeFBEvent.jpg
ORGANIZER;CN="Vita Nova":MAILTO:bdhnh@aol.com
END:VEVENT
BEGIN:VEVENT
DTSTART;TZID=America/New_York:20230527T100000
DTEND;TZID=America/New_York:20230527T120000
DTSTAMP:20260423T183244
CREATED:20230503T013453Z
LAST-MODIFIED:20230503T013453Z
UID:498-1685181600-1685188800@tipiloschi.org
SUMMARY:Transitional Diaconate Ordination
DESCRIPTION:Come celebrate the ordination of Mr. Eric Oullette to the transitional diaconate\, in the expectation that next year\, he’ll be ordained a priest! \nReach out to Link if you’re interested in carpooling to Manchester!
URL:https://tipiloschi.org/event/transitional-diaconate-ordination/
LOCATION:St. Joseph Cathedral\, 145 Lowell St.\, Manchester\, NH\, 03104\, United States
CATEGORIES:Diocesan Events
ATTACH;FMTTYPE=image/jpeg:https://tipiloschi.org/wp-content/uploads/2023/05/Ouellette-Eric-2020.jpg
END:VEVENT
BEGIN:VEVENT
DTSTART;TZID=America/New_York:20220924T080000
DTEND;TZID=America/New_York:20220924T143000
DTSTAMP:20260423T183244
CREATED:20220827T152718Z
LAST-MODIFIED:20220827T152803Z
UID:348-1664006400-1664029800@tipiloschi.org
SUMMARY:Diocesan Eucharistic Revival
DESCRIPTION:PLEASE NOTE REGISTRATION IS REQUIRED. RSVPing here isn’t enough! Register HERE. \nJoin the whole Diocese of Manchester for a day devoted to our love for Christ in the Eucharist! The day includes Mass\, Eucharistic procession\, preaching\, and a Holy Hour. Confession will be available. \nSome seating is under cover and some on grassy areas suitable for blankets or lawn chairs. Food concessions available and encouraged! \nWe will probably be carpooling from the Somersworth area\, if the parish doesn’t get a bus.
URL:https://tipiloschi.org/event/diocesan-eucharistic-revival/
LOCATION:Bank of New Hampshire Pavilion\, 72 Meadowbrook Lane\, Gilford\, NH\, 03249\, United States
CATEGORIES:Diocesan Events
ATTACH;FMTTYPE=image/png:https://tipiloschi.org/wp-content/uploads/2022/08/eucharistic-revival.png
END:VEVENT
BEGIN:VEVENT
DTSTART;TZID=America/New_York:20220604T080000
DTEND;TZID=America/New_York:20220604T150000
DTSTAMP:20260423T183244
CREATED:20220603T142738Z
LAST-MODIFIED:20220603T144240Z
UID:278-1654329600-1654354800@tipiloschi.org
SUMMARY:Priesthood Ordinations
DESCRIPTION:On Saturday\, June 4\, 2022\, the Diocese of Manchester has the great joy of ordaining Rev. Mr. Daniel Mikolajewski\, Rev. Mr. Cuong Van Nguyen\, and Rev. Mr. Roarke (Rory) Traynor to the priesthood! It’s not often our little diocese gets three new priests in the same year\, so it’s an extra joyful time! \nIf you’d like to ride down with us\, four of us can ride together from Link’s house\, leaving at 8am. You’re also welcome to meet us there\, and we’ll try to save you seats if we know you’re coming! \nIf you can’t come\, catch the live stream at https://www.stjosephcathedralnh.org/\, or at the very least\, keep these men in your prayers!
URL:https://tipiloschi.org/event/priesthood-ordinations/
LOCATION:St. Joseph Cathedral\, 145 Lowell St.\, Manchester\, NH\, 03104\, United States
CATEGORIES:Diocesan Events
ATTACH;FMTTYPE=image/jpeg:https://tipiloschi.org/wp-content/uploads/2022/06/home-Ordinations-2023.jpg
END:VEVENT
BEGIN:VEVENT
DTSTART;TZID=America/New_York:20210910T180000
DTEND;TZID=America/New_York:20210912T120000
DTSTAMP:20260423T183244
CREATED:20210818T005812Z
LAST-MODIFIED:20210818T005812Z
UID:141-1631296800-1631448000@tipiloschi.org
SUMMARY:Rest & Renew Diocesan Young Adult Retreat
DESCRIPTION:PLEASE NOTE: This is not the official event registration page! To RSVP\, you MUST go to the diocese’s Eventbrite page for the event and register there by September 3. \nFor those in the 21-35 age range\, the Diocese of Manchester is hosting a retreat along with the Diocese of Portland! \nPlease check out the rest of the event details at https://events.catholicnh.org/view/2431/rest-renew-young-adult-retreat.
URL:https://tipiloschi.org/event/rest-renew-young-adult-retreat/
LOCATION:Camp Marist\, 22 Abel Blvd.\, Effingham\, NH\, 03882\, United States
CATEGORIES:Diocesan Events
ATTACH;FMTTYPE=image/jpeg:https://tipiloschi.org/wp-content/uploads/2021/08/restandrenew.jpeg
ORGANIZER;CN="Mary Jane Silvia":MAILTO:mjsilvia@rcbm.org
END:VEVENT
END:VCALENDAR