BEGIN:VCALENDAR
VERSION:2.0
PRODID:-//Tipi Loschi Frassati Fellowship - ECPv6.15.20//NONSGML v1.0//EN
CALSCALE:GREGORIAN
METHOD:PUBLISH
X-ORIGINAL-URL:https://tipiloschi.org
X-WR-CALDESC:Events for Tipi Loschi Frassati Fellowship
REFRESH-INTERVAL;VALUE=DURATION:PT1H
X-Robots-Tag:noindex
X-PUBLISHED-TTL:PT1H
BEGIN:VTIMEZONE
TZID:America/New_York
BEGIN:DAYLIGHT
TZOFFSETFROM:-0500
TZOFFSETTO:-0400
TZNAME:EDT
DTSTART:20200308T070000
END:DAYLIGHT
BEGIN:STANDARD
TZOFFSETFROM:-0400
TZOFFSETTO:-0500
TZNAME:EST
DTSTART:20201101T060000
END:STANDARD
BEGIN:DAYLIGHT
TZOFFSETFROM:-0500
TZOFFSETTO:-0400
TZNAME:EDT
DTSTART:20210314T070000
END:DAYLIGHT
BEGIN:STANDARD
TZOFFSETFROM:-0400
TZOFFSETTO:-0500
TZNAME:EST
DTSTART:20211107T060000
END:STANDARD
BEGIN:DAYLIGHT
TZOFFSETFROM:-0500
TZOFFSETTO:-0400
TZNAME:EDT
DTSTART:20220313T070000
END:DAYLIGHT
BEGIN:STANDARD
TZOFFSETFROM:-0400
TZOFFSETTO:-0500
TZNAME:EST
DTSTART:20221106T060000
END:STANDARD
BEGIN:DAYLIGHT
TZOFFSETFROM:-0500
TZOFFSETTO:-0400
TZNAME:EDT
DTSTART:20230312T070000
END:DAYLIGHT
BEGIN:STANDARD
TZOFFSETFROM:-0400
TZOFFSETTO:-0500
TZNAME:EST
DTSTART:20231105T060000
END:STANDARD
BEGIN:DAYLIGHT
TZOFFSETFROM:-0500
TZOFFSETTO:-0400
TZNAME:EDT
DTSTART:20240310T070000
END:DAYLIGHT
BEGIN:STANDARD
TZOFFSETFROM:-0400
TZOFFSETTO:-0500
TZNAME:EST
DTSTART:20241103T060000
END:STANDARD
END:VTIMEZONE
BEGIN:VEVENT
DTSTART;TZID=America/New_York:20230617T200000
DTEND;TZID=America/New_York:20230617T223000
DTSTAMP:20260423T182735
CREATED:20230502T235513Z
LAST-MODIFIED:20230502T235513Z
UID:489-1687032000-1687041000@tipiloschi.org
SUMMARY:The Addams Family Musical
DESCRIPTION:Join us to see our friends Meghan and Jacob Kilroy perform live on stage at the Strand Theater in Dover\, NH. Tickets to the show are $20 and can be purchased here: https://www.breakaleglegally.com/tickets
URL:https://tipiloschi.org/event/the-addams-family-musical/
LOCATION:The Strand\, 20 Third St.\, Dover\, NH\, 03820\, United States
CATEGORIES:Community Events
ATTACH;FMTTYPE=image/png:https://tipiloschi.org/wp-content/uploads/2023/05/Screenshot-from-2023-05-02-19-52-43.png
END:VEVENT
BEGIN:VEVENT
DTSTART;TZID=America/New_York:20221203T110000
DTEND;TZID=America/New_York:20221203T130000
DTSTAMP:20260423T182735
CREATED:20221103T184829Z
LAST-MODIFIED:20221103T184829Z
UID:392-1670065200-1670072400@tipiloschi.org
SUMMARY:2022 Somersworth Christmas Parade
DESCRIPTION:Come join St. Ignatius of Loyola and St. Mary parishes for the annual Somersworth Christmas parade! \nHelp get our town into the Christmas spirit! Time to be confirmed.
URL:https://tipiloschi.org/event/2022-somersworth-christmas-parade/
LOCATION:NH
CATEGORIES:Community Events,Parish Events
ATTACH;FMTTYPE=image/png:https://tipiloschi.org/wp-content/uploads/2022/11/Screenshot-from-2022-11-03-14-46-52.png
END:VEVENT
BEGIN:VEVENT
DTSTART;TZID=America/New_York:20221118T191000
DTEND;TZID=America/New_York:20221118T213000
DTSTAMP:20260423T182735
CREATED:20221103T185517Z
LAST-MODIFIED:20221103T185517Z
UID:395-1668798600-1668807000@tipiloschi.org
SUMMARY:The Chosen Season 3 Episodes 1 and 2 Premiere
DESCRIPTION:From the event website: \nAfter Jesus completes a sermon that turns the world upside down\, all 12 disciples (including newcomer Judas) are ready to follow him to the ends of the earth. But problems remain. Matthew wrestles with estrangement from his family. Andrew visits an imprisoned John the Baptist. Mary and the women must find a source of income. Simon and Eden face the costs of following Jesus. Most importantly\, the disciples face their biggest challenge yet when Jesus sends them out\, two by two\, to preach and perform miracles without him. Episodes 1 & 2 of Season Three pick up where Season Two left off\, and in this unique theatrical experience\, launch the most emotional and consequential season of The Chosen to date. \nIt’s a great sign that theaters are willing to support Christian movies and TV series\, so when we can\, we support them! \nStay tuned to the group chat to find out where we’re sitting! This event is only at this theater for ONE NIGHT!
URL:https://tipiloschi.org/event/the-chosen-season-3-premiere/
LOCATION:Regal Fox Run Theater\, 45 Gosling Rd.\, Newington\, NH\, 03801\, United States
CATEGORIES:Community Events
ATTACH;FMTTYPE=image/png:https://tipiloschi.org/wp-content/uploads/2022/11/Screenshot-from-2022-11-03-14-54-42.png
END:VEVENT
BEGIN:VEVENT
DTSTART;TZID=America/New_York:20221115T190000
DTEND;TZID=America/New_York:20221115T213000
DTSTAMP:20260423T182735
CREATED:20221103T185927Z
LAST-MODIFIED:20221103T185927Z
UID:399-1668538800-1668547800@tipiloschi.org
SUMMARY:Prophet Movie Premiere
DESCRIPTION:From the event’s website: \nPROPHET is a new feature film about Cardinal Stefan Wyszyński – the Primate of Poland\, who\, after three years of imprisonment at the hands of the communist regime\, is later restored as the head of the Church in Poland. The film brings to a wider view the unknown threads from the heroic life of Cardinal Wyszyński on the canvas of historical events important for Poland and the world. \nThe film depicts an adamant leader who was fearless in facing communists and their agenda is to destroy the Church. Despite the threats\, Cardinal Wyszyński is a man of great faith whose vision goes beyond the danger posed by his opponents. What does the PROPHET see? He sees Karol Wojtyła\, who will be nominated a bishop\, and later cardinal upon his request.  In 1978 Karol Wojtyła became Pope and played a major role in the collapse of communism in Europe. \nThe unwavering faith and consistent attitude of one of the greatest spiritual leaders in Poland along with his promotion of love\, freedom and the dignity of every person become a prologue to the fall of communism and a spiritual rebirth of Poland and Eastern Europe. \nIt’s a great sign that theaters are willing to support Christian movies and TV series\, so when we can\, we support them! \nStay tuned to the group chat to find out where we’re sitting!
URL:https://tipiloschi.org/event/prophet/
LOCATION:Regal Fox Run Theater\, 45 Gosling Rd.\, Newington\, NH\, 03801\, United States
CATEGORIES:Community Events
ATTACH;FMTTYPE=image/png:https://tipiloschi.org/wp-content/uploads/2022/11/Screenshot-from-2022-11-03-14-56-31.png
END:VEVENT
BEGIN:VEVENT
DTSTART;TZID=America/New_York:20211030T190000
DTEND;TZID=America/New_York:20211030T220000
DTSTAMP:20260423T182735
CREATED:20211026T003419Z
LAST-MODIFIED:20211026T003419Z
UID:197-1635620400-1635631200@tipiloschi.org
SUMMARY:Dracula!
DESCRIPTION:Come see our friend Jacob performing in Dracula! supported by Meghan and team behind the scenes! \nWe already have a few tickets purchased for Saturday at 8pm (but come early to get the best seats!)\, so let Link know if you want dibs on some! \nYou can also buy your own tickets at the link below and meet us there\, but Jacob says he can help us get good seats\, so let us know you’re coming!
URL:https://tipiloschi.org/event/dracula/
LOCATION:The Strand\, 20 Third St.\, Dover\, NH\, 03820\, United States
CATEGORIES:Community Events
ATTACH;FMTTYPE=image/webp:https://tipiloschi.org/wp-content/uploads/2021/10/Drac-Poster-8.webp
END:VEVENT
BEGIN:VEVENT
DTSTART;TZID=America/New_York:20210826T173000
DTEND;TZID=America/New_York:20210826T233000
DTSTAMP:20260423T182735
CREATED:20210818T004550Z
LAST-MODIFIED:20210818T012135Z
UID:136-1629999000-1630020600@tipiloschi.org
SUMMARY:Red Sox vs. Twins
DESCRIPTION:Summer may be nearing its end\, but it’s still baseball season! Come watch the Red Sox run roughshod over the Minnesota Twins with your shady friends! \nPlease RSVP by Saturday August 21st so we can get our tickets together! Link is planning to reserve a parking space and can drive up to 4 more (especially if some of them are little!). \nWe’ll plan to leave Dover at 5:30pm in time for the 7:10pm game and come back once the game ends!
URL:https://tipiloschi.org/event/red-sox-vs-twins/
LOCATION:Fenway Park\, 4 Jersey St.\, Boston\, MA\, 02215\, United States
CATEGORIES:Community Events
ATTACH;FMTTYPE=image/png:https://tipiloschi.org/wp-content/uploads/2021/08/red-sox-vs-twins.png
END:VEVENT
BEGIN:VEVENT
DTSTART;TZID=America/New_York:20210822T120000
DTEND;TZID=America/New_York:20210822T170000
DTSTAMP:20260423T182735
CREATED:20210811T114944Z
LAST-MODIFIED:20210811T114944Z
UID:122-1629633600-1629651600@tipiloschi.org
SUMMARY:Portsmouth Food Truck & Craft Beer Festival
DESCRIPTION:Join your friends from Tipi Loschi at the Portsmouth Food Truck & Craft Beer Festival! \nTickets are $5 in advance\, $10 at the door. Kids 12 and under are free\, so don’t leave them behind! \nIf you want to purchase your tickets in advance\, please do so from the event coordinators themselves. We’ll look forward to seeing you there!
URL:https://tipiloschi.org/event/portsmouth-food-truck-craft-beer-festival/
LOCATION:Cisco Brewers\, 35 Corporate Dr.\, Portsmouth\, NH\, 03801\, United States
CATEGORIES:Community Events
ATTACH;FMTTYPE=image/jpeg:https://tipiloschi.org/wp-content/uploads/2021/08/foodtruckssmall.jpg
END:VEVENT
END:VCALENDAR